BEGIN:VCALENDAR
VERSION:2.0
BEGIN:VEVENT
CLASS:PUBLIC
CATEGORIES:MEETING
DTSTART;TZID=America/New_York:20260317T200000
DTEND;TZID=America/New_York:20260317T200000
SUMMARY:LESSON ZERO at Red Rocks Cafe and Tequila Bar
DESCRIPTION:Price: free\nAge Limit: All Ages\n\nDetails: It&#39;s St. Patrick&#39;s Day! Wear something green. Come out and hear Oasis recording artist LESSON ZERO, drink, eat, and be Irish for once, aye?
LOCATION:Red Rocks Cafe and Tequila Bar - 13850 Braddock rd, Centerville, VA, 20121, US
END:VEVENT

END:VCALENDAR
