BEGIN:VCALENDAR
VERSION:2.0
BEGIN:VEVENT
CLASS:PUBLIC
CATEGORIES:MEETING
DTSTART;TZID=America/Denver:20260321T180000
DTEND;TZID=America/Denver:20260321T180000
SUMMARY:The 7th Street Blues Band at Pat's BBQ
DESCRIPTION:Price: Free\nAge Limit: All Ages\n\nDetails: Good friends, delicious food and Live Blues.\nWho could ask for more!\n\nPat’s is located at\n155 W Commonwealth Ave, Salt Lake City, UT
LOCATION:Pat's BBQ - 155 W Commonwealth Ave, Salt Lake City, UT, 84115, US
END:VEVENT

END:VCALENDAR
