BEGIN:VCALENDAR
VERSION:2.0
BEGIN:VEVENT
CLASS:PUBLIC
CATEGORIES:MEETING
DTSTART;TZID=America/Chicago:20261010T200000
DTEND;TZID=America/Chicago:20261010T200000
SUMMARY:Texas Flood at 2920 Roadhouse
DESCRIPTION:Click here to buy tickets: https://maingatetickets.com/events/tickets/32162/1791590400\nAge Limit: All Ages
LOCATION:2920 Roadhouse - 21835 Farm to Market 2920, Tomball, TX, 77377, US
END:VEVENT

END:VCALENDAR
