BEGIN:VCALENDAR
VERSION:2.0
BEGIN:VEVENT
CLASS:PUBLIC
CATEGORIES:MEETING
DTSTART;TZID=America/Chicago:20260308T150000
DTEND;TZID=America/Chicago:20260308T150000
SUMMARY:Texas Flood at Lee Harvey's
DESCRIPTION:Age Limit: All Ages
LOCATION:Lee Harvey's - Dallas, TX, US
END:VEVENT

END:VCALENDAR
