BEGIN:VCALENDAR
VERSION:2.0
BEGIN:VEVENT
CLASS:PUBLIC
CATEGORIES:MEETING
DTSTART;TZID=America/Chicago:20260715T170000
DTEND;TZID=America/Chicago:20260715T170000
SUMMARY:HDB VITO at Millennium Park
DESCRIPTION:Price: $35\nAge Limit: All Ages
LOCATION:Millennium Park - 201 E. Randolph St., Chicago, IL, 60601, US
END:VEVENT

END:VCALENDAR
