BEGIN:VCALENDAR
VERSION:2.0
BEGIN:VEVENT
CLASS:PUBLIC
CATEGORIES:MEETING
DTSTART:20270124T010000Z
DTEND:20270124T010000Z
SUMMARY:The Elders at STRING BREAK CRUISE III 2027
DESCRIPTION:Age Limit: All Ages
LOCATION:STRING BREAK CRUISE III 2027 - TBD, Tbd, FL, US
END:VEVENT

END:VCALENDAR
