BEGIN:VCALENDAR
VERSION:2.0
BEGIN:VEVENT
CLASS:PUBLIC
CATEGORIES:MEETING
DTSTART:20270101T010000Z
DTEND:20270101T010000Z
SUMMARY:Scott Verville at Currently playing with Soul Fire
DESCRIPTION:Age Limit: All Ages
LOCATION:Currently playing with Soul Fire - 111 Groovey Way, St Augustine, FL, US
END:VEVENT

END:VCALENDAR
