BEGIN:VCALENDAR
VERSION:2.0
BEGIN:VEVENT
CLASS:PUBLIC
CATEGORIES:MEETING
DTSTART;TZID=Europe/London:20260413T190000
DTEND;TZID=Europe/London:20260413T190000
SUMMARY:Small Days (Natalie Davis, and Dave Merrick) at Folk House
DESCRIPTION:Price: £10-50 Standard Entry and £8-50 Concession\nClick here to buy tickets: https://www.headfirstbristol.co.uk/whats-on/the-folk-house/mon-13-apr-adventures-with-native-american-flute-and-guitar-147812#e147812\nAge Limit: All Ages\n\nDetails: Adventures with Native American Flute and Guitar – Live at Bristol Folk House Café | 13th April\nDoors: 19:00 | Show: 20:00\n\nTickets: £8.50 concession | £10:50 general\n\nJoin us for an evening with the atmospheric sounds of Native American Flute and guitar. Inner Voice are Dave Merrick (Native American Flutes) and Clive Mills (Guitars).\n\nClive Mills is a long-standing professional classical, folk and blues guitar performer and teacher. He has served as an examiner for Trinity/Rock School. Dave Merrick has received awards from the Native American Flute Awards Organization, USA, for his playing and compositions on this wonderful instrument.\n\nThis event is brought to you by Love Music Hate Racism. 
LOCATION:Folk House - 40A Park St, Bristol, BST, BS1 5JG, UK
END:VEVENT

END:VCALENDAR
