BEGIN:VCALENDAR
VERSION:2.0
BEGIN:VEVENT
CLASS:PUBLIC
CATEGORIES:MEETING
DTSTART;TZID=America/Chicago:20260816T150000
DTEND;TZID=America/Chicago:20260816T150000
SUMMARY:Texas Flood at Dan's Silverleaf
DESCRIPTION:Click here to buy tickets: https://www.prekindle.com/event/27638-texas-flood-a-tribute-to-stevie-ray-vaughan-live-at-dans-silverleaf-denton\nAge Limit: All Ages
LOCATION:Dan's Silverleaf - 103 Industrial Street, Denton, TX, 76201, US
END:VEVENT

END:VCALENDAR
