BEGIN:VCALENDAR
VERSION:2.0
BEGIN:VEVENT
CLASS:PUBLIC
CATEGORIES:MEETING
DTSTART;TZID=America/Denver:20260501T193000
DTEND;TZID=America/Denver:20260501T193000
SUMMARY:Trouble Bound at The Alley
DESCRIPTION:Age Limit: 21+ or w/ adult\n\nDetails: Trouble returns to the Alley for a night of tequila-soaked adventure.
LOCATION:The Alley - 2420 West Main Street, Littleton, CO, 80120, US
END:VEVENT

END:VCALENDAR
