BEGIN:VCALENDAR
VERSION:2.0
BEGIN:VEVENT
CLASS:PUBLIC
CATEGORIES:MEETING
DTSTART;TZID=America/New_York:20260228T160000
DTEND;TZID=America/New_York:20260228T160000
SUMMARY:PR1 Promotions / DJ Tiburon at American Legion Glen Peters Post 266
DESCRIPTION:Age Limit: All Ages\n\nDetails: Clam Bake!!!. Tiki Bar opens at 3. food   will be served until 7 or while supplies last.  
LOCATION:American Legion Glen Peters Post 266 - 5201 Richardson Road, Sarasota, FL, 34232, US
END:VEVENT

END:VCALENDAR
