BEGIN:VCALENDAR
VERSION:2.0
BEGIN:VEVENT
CLASS:PUBLIC
CATEGORIES:MEETING
DTSTART;TZID=America/Chicago:20261212T190000
DTEND;TZID=America/Chicago:20261212T190000
SUMMARY:The Elders at Oak Creek Community Center
DESCRIPTION:Age Limit: All Ages
LOCATION:Oak Creek Community Center - 8580 South Howell Avenue, Oak Creek, WI, 53154, US
END:VEVENT

END:VCALENDAR
