BEGIN:VCALENDAR
VERSION:2.0
BEGIN:VEVENT
CLASS:PUBLIC
CATEGORIES:MEETING
DTSTART;TZID=Europe/Dublin:20261024T200000
DTEND;TZID=Europe/Dublin:20261024T200000
SUMMARY:The Elders at The ARLINGTON HOTEL
DESCRIPTION:Age Limit: All Ages
LOCATION:The ARLINGTON HOTEL - 23-25 BACHELORS WALK, Dublin, IE
END:VEVENT

END:VCALENDAR
