BEGIN:VCALENDAR
VERSION:2.0
BEGIN:VEVENT
CLASS:PUBLIC
CATEGORIES:MEETING
DTSTART;TZID=Europe/Dublin:20261019T200000
DTEND;TZID=Europe/Dublin:20261019T200000
SUMMARY:The Elders at Cyprus Avenue
DESCRIPTION:Age Limit: All Ages
LOCATION:Cyprus Avenue - Caroline Street, Cork, C, IE
END:VEVENT

END:VCALENDAR
