BEGIN:VCALENDAR
VERSION:2.0
BEGIN:VEVENT
CLASS:PUBLIC
CATEGORIES:MEETING
DTSTART;TZID=Europe/Dublin:20261017T190000
DTEND;TZID=Europe/Dublin:20261017T190000
SUMMARY:The Elders at Arklow Bay Hotel
DESCRIPTION:Age Limit: All Ages
LOCATION:Arklow Bay Hotel - The Beach Road, Arklow, WW, IE
END:VEVENT

END:VCALENDAR
