BEGIN:VCALENDAR
VERSION:2.0
BEGIN:VEVENT
CLASS:PUBLIC
CATEGORIES:MEETING
DTSTART;TZID=Europe/Dublin:20261016T200000
DTEND;TZID=Europe/Dublin:20261016T200000
SUMMARY:The Elders at Arklow Golf Club
DESCRIPTION:Age Limit: All Ages\n\nDetails: Traditional Irish Music Session\nDay 1 The Banshee Cry Ireland Tour 2026
LOCATION:Arklow Golf Club - The Beach Road, Arklow, WW, IE
END:VEVENT

END:VCALENDAR
