BEGIN:VCALENDAR
VERSION:2.0
BEGIN:VEVENT
CLASS:PUBLIC
CATEGORIES:MEETING
DTSTART;TZID=America/Chicago:20261114T190000
DTEND;TZID=America/Chicago:20261114T190000
SUMMARY:The Elders at Cure of Ars Community Center
DESCRIPTION:Age Limit: All Ages
LOCATION:Cure of Ars Community Center - 9400 Mission, Leawood, KS, 66209, US
END:VEVENT

END:VCALENDAR
