BEGIN:VCALENDAR
VERSION:2.0
BEGIN:VEVENT
CLASS:PUBLIC
CATEGORIES:MEETING
DTSTART;TZID=America/Chicago:20260502T180000
DTEND;TZID=America/Chicago:20260502T180000
SUMMARY:The Elders at Our Lady of Guadalupe Centers 
DESCRIPTION:Age Limit: All Ages\n\nDetails: Cinco de Mayo Show 
LOCATION:Our Lady of Guadalupe Centers  - Cesar Chavez Avenida, Kansas City, MO, US
END:VEVENT

END:VCALENDAR
