BEGIN:VCALENDAR
VERSION:2.0
BEGIN:VEVENT
CLASS:PUBLIC
CATEGORIES:MEETING
DTSTART;TZID=America/Chicago:20260307T133000
DTEND;TZID=America/Chicago:20260307T133000
SUMMARY:The Elders at PBS KCPT TV 
DESCRIPTION:Age Limit: All Ages\n\nDetails: This is not a live in-person show.  It is a televised concert.
LOCATION:PBS KCPT TV  - 125 E 31st Street, Kansas City, MO, 64108, US
END:VEVENT

END:VCALENDAR
