BEGIN:VCALENDAR
VERSION:2.0
BEGIN:VEVENT
CLASS:PUBLIC
CATEGORIES:MEETING
DTSTART;TZID=America/Chicago:20260303T203000
DTEND;TZID=America/Chicago:20260303T203000
SUMMARY:The Elders at PBS KCPT TV 
DESCRIPTION:Click here to buy tickets: https://www.kansascitypbs.org/schedules/\nAge Limit: All Ages
LOCATION:PBS KCPT TV  - 125 E 31st Street, Kansas City, MO, 64108, US
END:VEVENT

END:VCALENDAR
