BEGIN:VCALENDAR
VERSION:2.0
BEGIN:VEVENT
CLASS:PUBLIC
CATEGORIES:MEETING
DTSTART;TZID=America/New_York:20260301T120000
DTEND;TZID=America/New_York:20260301T120000
SUMMARY:Bryan K Buchanan at The Bimini Bar
DESCRIPTION:Age Limit: All Ages
LOCATION:The Bimini Bar - 1022 West Hwy 100, Bunnell, FL, 32110, US
END:VEVENT

END:VCALENDAR
