BEGIN:VCALENDAR
VERSION:2.0
BEGIN:VEVENT
CLASS:PUBLIC
CATEGORIES:MEETING
DTSTART;TZID=America/Los_Angeles:20260516T193000
DTEND;TZID=America/Los_Angeles:20260516T193000
SUMMARY:Rick Estrin & The Nightcats at Almost Famous Wine Company
DESCRIPTION:Price: Tickets start at $24\nClick here to buy tickets: https://www.eventbrite.com/e/rick-estrin-and-the-nightcats-tickets-1983421943425?aff=revnat\nAge Limit: 21+\n\nDetails: Harmonica master and songwriting legend Rick Estrin leads his wildly entertaining, award-winning band in rockabilly, blues, and jazz\n\n21+ Bar opens 6:30 pm. Happy hour 6:30 – 7 pm. Show starts 7:30 pm.\n\nTwo-drink minimum per guest. Come early for happy hour specials!\n\n\nBlues vocalist, harmonica master and songwriting legend Rick Estrin leads the musically fearless, wildly entertaining, award-winning band Rick Estrin &amp; The Nightcats, comprised of multi-instrumentalist/musical mastermind/producer Christoffer “Kid” Andersen, keyboardist/organ wizard/bass player Lorenzo Farrell and endlessly creative drummer Derrick “D’Mar” Martin. Schooled by some of the very best blues musicians on the West Coast, Estrin and band bring a stellar combination of rockabilly, jazz, blues, rock, and big band swing to the stage.\n\nRick Estrin &amp; The Nightcats has twice won the coveted Blues Music Award for Band Of The Year. Additionally, Estrin has won Blues Music Awards for Song Of The Year, Traditional Male Blues Artist and for Instrumentalist—Harmonica. In addition to Estrin’s celebrated songwriting and peerless blues harmonica playing, he and the band are among the most entertaining and colorful showmen around. Estrin’s signature streetwise vocals and hipster-cool look, Andersen’s eye-popping, off-the-cuff guitar pyrotechnics, Farrell’s mighty organ, piano and bass work and D’Mar’s dynamic, acrobatic drumming make every one of their live performances a must-see event.\n\nRick Estrin &amp; The Nightcats’ new album and the band’s sixth release, The Hits Keep Coming, packs a powerful punch, with phenomenal musicianship and lyrics—both serious and humorous. Produced by Andersen at his legendary Greaseland USA studio in San Jose, California, the record is modern blues at its most potent, intense and fun in all the right places.\n\n\nSee them live at Almost Famous Wine Lounge, an award-winning tasting room and world-class music venue located in the heart of Livermore&#39;s urban wine, spirits and brewery district.
LOCATION:Almost Famous Wine Company - 2271 South Vasco Road, Livermore, CA, 94550, US
END:VEVENT

END:VCALENDAR
