BEGIN:VCALENDAR
VERSION:2.0
BEGIN:VEVENT
CLASS:PUBLIC
CATEGORIES:MEETING
DTSTART;TZID=America/New_York:20260418T190000
DTEND;TZID=America/New_York:20260418T190000
SUMMARY:Diamond Dixie at Beachside Tavern
DESCRIPTION:Age Limit: All Ages
LOCATION:Beachside Tavern - 690 E. 3rd Avenue, New Smyrna Beach, FL, 32169, US
END:VEVENT

END:VCALENDAR
