BEGIN:VCALENDAR
VERSION:2.0
BEGIN:VEVENT
CLASS:PUBLIC
CATEGORIES:MEETING
DTSTART;TZID=America/Chicago:20260314T180000
DTEND;TZID=America/Chicago:20260314T180000
SUMMARY:Brian Grace Music at Tia Juanita Fish Camp Waco
DESCRIPTION:Age Limit: All Ages
LOCATION:Tia Juanita Fish Camp Waco - 4671 South Jack Kultgen Expressway, Waco, TX, 76705, US
END:VEVENT

END:VCALENDAR
