BEGIN:VCALENDAR
VERSION:2.0
BEGIN:VEVENT
CLASS:PUBLIC
CATEGORIES:MEETING
DTSTART;TZID=America/Boise:20260523T190000
DTEND;TZID=America/Boise:20260523T190000
SUMMARY:Wayne White at Lock Stock & Barrel
DESCRIPTION:Age Limit: All Ages
LOCATION:Lock Stock & Barrel - 1100 W. Jefferson, Boise, ID, 83703, US
END:VEVENT

END:VCALENDAR
