BEGIN:VCALENDAR
VERSION:2.0
BEGIN:VEVENT
CLASS:PUBLIC
CATEGORIES:MEETING
DTSTART;TZID=America/Boise:20260510T110000
DTEND;TZID=America/Boise:20260510T110000
SUMMARY:Wayne White at Revel Eagle
DESCRIPTION:Age Limit: All Ages
LOCATION:Revel Eagle - 745 E. Riverside Dr, Eagle, ID, 83616, US
END:VEVENT

END:VCALENDAR
