BEGIN:VCALENDAR
VERSION:2.0
BEGIN:VEVENT
CLASS:PUBLIC
CATEGORIES:MEETING
DTSTART;TZID=America/Denver:20260327T180000
DTEND;TZID=America/Denver:20260327T180000
SUMMARY:Trouble Bound at Wide Open Saloon
DESCRIPTION:Age Limit: All Ages\n\nDetails: Trouble Bound Band’s debut at the legendary saloon.\n\nCome early and stay late. \n\nShow starts at 7 and goes until 10:30 
LOCATION:Wide Open Saloon - 5607 U.S. 85, Sedalia, CO, 80135, US
END:VEVENT

END:VCALENDAR
