BEGIN:VCALENDAR
VERSION:2.0
BEGIN:VEVENT
CLASS:PUBLIC
CATEGORIES:MEETING
DTSTART;TZID=America/Denver:20260221T183000
DTEND;TZID=America/Denver:20260221T183000
SUMMARY:Trouble Bound at Fraco's Bar & Live Music
DESCRIPTION:Price: $10\nAge Limit: 21+\n\nDetails: Dancing.  Drinking.  Debauchery. \n\nWe’re joined by our good friends Jordan Yewey and Chelsey Webb. \n\nShow goes from 7-11 
LOCATION:Fraco's Bar & Live Music - 5302 South Federal Circle, Littleton, CO, 80123, US
END:VEVENT

END:VCALENDAR
