BEGIN:VCALENDAR
VERSION:2.0
BEGIN:VEVENT
CLASS:PUBLIC
CATEGORIES:MEETING
DTSTART;TZID=America/Chicago:20260424T193000
DTEND;TZID=America/Chicago:20260424T193000
SUMMARY:Texas Flood at Camp Street Blues Festival
DESCRIPTION:Click here to buy tickets: https://www.discovercrocketttx.com/event-details/camp-street-blues-at-lightin-hopkins-park-2026\nAge Limit: All Ages
LOCATION:Camp Street Blues Festival - S 3rd street, Crockett, TX, 75835, US
END:VEVENT

END:VCALENDAR
