BEGIN:VCALENDAR
VERSION:2.0
BEGIN:VEVENT
CLASS:PUBLIC
CATEGORIES:MEETING
DTSTART;TZID=America/Chicago:20260509T190000
DTEND;TZID=America/Chicago:20260509T190000
SUMMARY:Kiss The Goat - Ghost Tribute  at Revolution Music Room (The Rev Room)
DESCRIPTION:Click here to buy tickets: https://www.revroom.com/product/kiss-the-goat-526/\nAge Limit: 14+
LOCATION:Revolution Music Room (The Rev Room) - 300 President Clinton Ave, Little Rock, AR, 72201, US
END:VEVENT

END:VCALENDAR
