BEGIN:VCALENDAR
VERSION:2.0
BEGIN:VEVENT
CLASS:PUBLIC
CATEGORIES:MEETING
DTSTART;TZID=America/New_York:20260219T200000
DTEND;TZID=America/New_York:20260219T200000
SUMMARY:The Desperado Under the Eaves at 500 N Duke St
DESCRIPTION:Age Limit: All Ages
LOCATION:500 N Duke St - 500 North Duke Street, Durham, NC, 27701, US
END:VEVENT

END:VCALENDAR
