BEGIN:VCALENDAR
VERSION:2.0
BEGIN:VEVENT
CLASS:PUBLIC
CATEGORIES:MEETING
DTSTART;TZID=America/Los_Angeles:20260613T210000
DTEND;TZID=America/Los_Angeles:20260613T210000
SUMMARY:SIRSY at Emerald Of Siam
DESCRIPTION:Age Limit: 21+
LOCATION:Emerald Of Siam - 1314 Jadwin Ave, Richland, WA, 99354, US
END:VEVENT

END:VCALENDAR
