BEGIN:VCALENDAR
VERSION:2.0
BEGIN:VEVENT
CLASS:PUBLIC
CATEGORIES:MEETING
DTSTART;TZID=America/Boise:20260502T180000
DTEND;TZID=America/Boise:20260502T180000
SUMMARY:Wayne White at The Residence Inn
DESCRIPTION:Age Limit: All Ages
LOCATION:The Residence Inn - 400 S. Capitol Blvd, Boise, ID, 83703, US
END:VEVENT

END:VCALENDAR
