BEGIN:VCALENDAR
VERSION:2.0
BEGIN:VEVENT
CLASS:PUBLIC
CATEGORIES:MEETING
DTSTART;TZID=America/Chicago:20260326T180000
DTEND;TZID=America/Chicago:20260326T180000
SUMMARY:Brian Grace Music at Lost Oak Winery
DESCRIPTION:Age Limit: All Ages
LOCATION:Lost Oak Winery - 2116 Farm to Market Road 731, Burleson, TX, 76028, US
END:VEVENT

END:VCALENDAR
