BEGIN:VCALENDAR
VERSION:2.0
BEGIN:VEVENT
CLASS:PUBLIC
CATEGORIES:MEETING
DTSTART;TZID=America/Chicago:20260214T190000
DTEND;TZID=America/Chicago:20260214T190000
SUMMARY:Brian Grace Music at Erler's Texas Tavern Grill
DESCRIPTION:Age Limit: All Ages
LOCATION:Erler's Texas Tavern Grill - 201 Northeast 4th Street, Hubbard, TX, 76648, US
END:VEVENT

END:VCALENDAR
