BEGIN:VCALENDAR
VERSION:2.0
BEGIN:VEVENT
CLASS:PUBLIC
CATEGORIES:MEETING
DTSTART;TZID=America/Los_Angeles:20260509T200000
DTEND;TZID=America/Los_Angeles:20260509T200000
SUMMARY:Diamond Dixie at Concert in Parks Yreka, CA
DESCRIPTION:Age Limit: All Ages\n\nDetails: We will be playing from 8:00-9:00pm at the \nCascade Select Ranch Rodeo &amp; Horse Sale\nlocated at\n1712 Fairlane Rd, Yreck, 96097\nclick here for tickets:\nhttps://www.cascadeselectsale.com/event-details/ranch-rodeo-afterparty-featuring-casey-donahew-diamond-dixie-2026-05-09-17-00
LOCATION:Concert in Parks Yreka, CA - Downtown, Yreka, CA, 96097, US
END:VEVENT

END:VCALENDAR
