BEGIN:VCALENDAR
VERSION:2.0
BEGIN:VEVENT
CLASS:PUBLIC
CATEGORIES:MEETING
DTSTART;TZID=America/Los_Angeles:20260508T220000
DTEND;TZID=America/Los_Angeles:20260508T220000
SUMMARY:Diamond Dixie at Stoney's Rockin Country
DESCRIPTION:Age Limit: All Ages\n\nDetails: We&#39;ll be playing from 10:00-11:00pm.
LOCATION:Stoney's Rockin Country - 9151 South Las Vegas Boulevard #300, Las Vegas, NV, 89123, US
END:VEVENT

END:VCALENDAR
