BEGIN:VCALENDAR
VERSION:2.0
BEGIN:VEVENT
CLASS:PUBLIC
CATEGORIES:MEETING
DTSTART;TZID=America/New_York:20260603T180000
DTEND;TZID=America/New_York:20260603T180000
SUMMARY:Eleni Skiba at E.R. Bradley's
DESCRIPTION:Age Limit: All Ages\n\nDetails: Samantha Russell Duo
LOCATION:E.R. Bradley's - 104 North Clematis Street, West Palm Beach, FL, 33401, US
END:VEVENT

END:VCALENDAR
