BEGIN:VCALENDAR
VERSION:2.0
BEGIN:VEVENT
CLASS:PUBLIC
CATEGORIES:MEETING
DTSTART;TZID=America/New_York:20260501T200000
DTEND;TZID=America/New_York:20260501T200000
SUMMARY:Eleni Skiba at Double Roads Tavern
DESCRIPTION:Age Limit: All Ages\n\nDetails: Samantha Russell Duo
LOCATION:Double Roads Tavern - 251 North A1A, Jupiter, FL, 33477, US
END:VEVENT

END:VCALENDAR
