BEGIN:VCALENDAR
VERSION:2.0
BEGIN:VEVENT
CLASS:PUBLIC
CATEGORIES:MEETING
DTSTART:20260210T180000Z
DTEND:20260210T180000Z
SUMMARY:Eleni Skiba at Jupiter Private Community Event
DESCRIPTION:Age Limit: All Ages\n\nDetails: Samantha Russell Duo
LOCATION:Jupiter Private Community Event - Jupiter, Jupiter, FL, US
END:VEVENT

END:VCALENDAR
