BEGIN:VCALENDAR
VERSION:2.0
BEGIN:VEVENT
CLASS:PUBLIC
CATEGORIES:MEETING
DTSTART;TZID=America/Chicago:20260606T210000
DTEND;TZID=America/Chicago:20260606T210000
SUMMARY:Texas Flood at Scout Bar
DESCRIPTION:Age Limit: All Ages
LOCATION:Scout Bar - 18307 South Egret Bay Boulevard, Houston, TX, 77058, US
END:VEVENT

END:VCALENDAR
