BEGIN:VCALENDAR
VERSION:2.0
BEGIN:VEVENT
CLASS:PUBLIC
CATEGORIES:MEETING
DTSTART;TZID=America/Chicago:20260701T200000
DTEND;TZID=America/Chicago:20260701T200000
SUMMARY:Texas Flood at Sounds of Lewisville
DESCRIPTION:Age Limit: All Ages
LOCATION:Sounds of Lewisville - 150 W Church St, Lewsiville, TX, 75057, US
END:VEVENT

END:VCALENDAR
