BEGIN:VCALENDAR
VERSION:2.0
BEGIN:VEVENT
CLASS:PUBLIC
CATEGORIES:MEETING
DTSTART;TZID=America/Chicago:20260815T200000
DTEND;TZID=America/Chicago:20260815T200000
SUMMARY:Texas Flood at Dosey Doe Music Cafe
DESCRIPTION:Click here to buy tickets: https://www.doseydoetickets.com/shows/4233\nAge Limit: All Ages
LOCATION:Dosey Doe Music Cafe - 463 Farm to Market 1488 Rd, Conroe, TX, 77384, US
END:VEVENT

END:VCALENDAR
