BEGIN:VCALENDAR
VERSION:2.0
BEGIN:VEVENT
CLASS:PUBLIC
CATEGORIES:MEETING
DTSTART;TZID=America/Los_Angeles:20260428T210000
DTEND;TZID=America/Los_Angeles:20260428T210000
SUMMARY:Victorious Marcus at 😱 OMG MY 'GRAMMY SHOWCASE ON TUBI 1/ 31 WITH MY NEW RECORD LABEL B & R MUSIC GROUP (DETAILS)
DESCRIPTION:Price: Varies \nClick here to buy tickets: https://Nexttorisetour.com\nAge Limit: All Ages\n\nDetails: Happy New Year,\n\nHope all&#39;s well :) Let&#39;s Work🎇😱OMG ITS REALLY HAPPENING THANKFUL 23 BILLION VIEWS/ 2934 AWARDS INCLUDING FROM GYMNASTICS &amp; TRACK MEETS AWARDS Starred at 12 Yrs Old/NEW RECORD LABEL DEAL with B&amp;R Music Group with THE GRAMMYS SHOWCASE on Tubi January 31st in Los Angeles, CA!!!! Tour in Production!!!! :)\nPREVIOUS 26 MUSIC/BUSINESS AWARDS/SHOW Las Vegas Dec4&amp;5 for My GRAMMY EMMY EQUIVALENT WORLD MUSIC AWAR-Fluxx Artist Of the Year - Media and Entertainment 2025 My Music, TV &amp; Radio Show &#39;The Victorious Marcus Show&#39; with BBS TV Radio &amp; Universal Music Group Distribution!!!!\n\nBESIDES 21 COMPETITIONS PER YEAR WITH 8 AWARDS PER EVENT ELITE GYMNASTICS COMPETITIONS INCLUDING MOST OUTSTANDING BY THE OLYMPIC GYMNASTICS COACH BELA KAROLI/CAMP @12 &amp; SCHOOL GYMNASTICS COMPETITIONS AT SAME JR HIGH AS BEYONCE KNOWLES AT WELCH MIDDLE SCHOOL. I HAD STRAIGHT A&#39;S. With 6 EVENTS &amp; 8 AWARDS FOR 21 MEETS PER YEAR ELITE GYMNASTICS MEETS &amp; SCHOOL GYMNASTICS MEETS WITH 6 EVENTS &amp; 8 AWARDS FOR &amp; ALL AROUND AWARD&amp; Individual All Around Gymnastics Awards EACH COMPETITION FOR 15 YEARS TOTAL of 2520 AWARDS!!! ALSO 21 TRACK MEETS A YR FOR JR OLYMPIC TRACK &amp; SCHOOL TRACK FOR 6 YRS WITH 3 AWARDS PER INDIVIDUAL EVENTS AWARDS &amp;TEAM MEETS FOR 4 ×100 With 3 AWARDS PER 3 EVENTS LONG JUMP &amp; 80 METER HURDLES TOTAL OF 63 AWARDS A YR FOR 6 YRS 378 TRACK AWARDS.\n FOR ALL AWARDS 2934 AWARDS &amp; CLIMBING. Thanks to whom it&#39;s due Especially God!!! Much Love God Bless/Work/Sponsors/ Investors ETC :)🎆\nnexttorisetour.com/\n.bbsradio.com/TheVictoriousMarcusShow .reverbnation.com/victoriousmarcus\nhttps://mave.ly/the-victorious-marcus-shop
LOCATION:😱 OMG MY 'GRAMMY SHOWCASE ON TUBI 1/ 31 WITH MY NEW RECORD LABEL B & R MUSIC GROUP (DETAILS) - 464 Main St, Los Angeles, CA, 90013, US
END:VEVENT

END:VCALENDAR
