BEGIN:VCALENDAR
VERSION:2.0
BEGIN:VEVENT
CLASS:PUBLIC
CATEGORIES:MEETING
DTSTART;TZID=America/Chicago:20260131T200000
DTEND;TZID=America/Chicago:20260131T200000
SUMMARY:Brian Grace Music at The Oasis Bar & Grill
DESCRIPTION:Age Limit: All Ages
LOCATION:The Oasis Bar & Grill - 4720 Ruby Avenue, Midlothian, TX, 76065, US
END:VEVENT

END:VCALENDAR
