BEGIN:VCALENDAR
VERSION:2.0
BEGIN:VEVENT
CLASS:PUBLIC
CATEGORIES:MEETING
DTSTART;TZID=America/New_York:20260201T130000
DTEND;TZID=America/New_York:20260201T130000
SUMMARY:GJ Hoffman at Barns at Hamilton Station
DESCRIPTION:Age Limit: All Ages\n\nDetails: \nHowdy friends,\n\nI’d love to personally invite you to a very special afternoon show and videotaping:\n\n🎉 Country/Barn/Dance Par-tay 🎉\n\n📅 Saturday, February 1st\n🕑 2:00 – 5:00 PM\n📍 The Barns at Hamilton Station\n\nThis will be a two-part show:\n• Grassroots Country 2 - 3:30 PM\n• T.H.E. SHOW — The Honky-Tonk Experience 4 - 5 PM\n\nWe’re setting out to capture some real-deal 50s/60s country barn dance magic on camera, and I need YOU to help bring it to life.\n\nSo dust off those BOLO ties, cowboy boots, snap on that buckle, throw on your hat, your pearl snaps, your denim, your overalls — whatever makes you feel a little bit country.\nCome dance, clap, sway, smile, and help us make this room feel like a honky-tonk from another time.\n\nBonus points if anyone can whip up some bouffant hair. 😉\n\nIf you want a taste of the vibe we’re chasing, check this out:\nhttps://youtu.be/qGflVR3JmR0\n\nMore details here:\nhttps://gjhoffman.com/event/6371098/746378661/full-band-robert-chris-lavinia\n\nIt would mean the world to have you there — not just as an audience, but as part of the moment we’re capturing.
LOCATION:Barns at Hamilton Station - 16804 Hamilton Station Rd, Hamilton, VA, 20158, US
END:VEVENT

END:VCALENDAR
