BEGIN:VCALENDAR
VERSION:2.0
BEGIN:VEVENT
CLASS:PUBLIC
CATEGORIES:MEETING
DTSTART;TZID=America/Denver:20260828T200000
DTEND;TZID=America/Denver:20260828T200000
SUMMARY:Randy Burghardt at The Grizzly Rose
DESCRIPTION:Age Limit: 21+
LOCATION:The Grizzly Rose - 5450 N Valley Hwy, Denver, CO, 80216, US
END:VEVENT

END:VCALENDAR
