BEGIN:VCALENDAR
VERSION:2.0
BEGIN:VEVENT
CLASS:PUBLIC
CATEGORIES:MEETING
DTSTART;TZID=America/Chicago:20260628T210000
DTEND;TZID=America/Chicago:20260628T210000
SUMMARY:Misty Blues at Buddy Guy's Legends
DESCRIPTION:Click here to buy tickets: https://buddyguy.com/event/misty-blues/buddy-guys-legends/chicago-illinois/\nAge Limit: All Ages
LOCATION:Buddy Guy's Legends - 700 South Wabash Avenue, Chicago, IL, 60605, US
END:VEVENT

END:VCALENDAR
