BEGIN:VCALENDAR
VERSION:2.0
BEGIN:VEVENT
CLASS:PUBLIC
CATEGORIES:MEETING
DTSTART;TZID=Europe/London:20261002T180000
DTEND;TZID=Europe/London:20261002T180000
SUMMARY:BB BlackDog Steampunk Rock at The Black Market Venue
DESCRIPTION:Price: £30\nAge Limit: All Ages\n\nDetails: Part OIf Phoenix Winter Festival in This Great Venue 
LOCATION:The Black Market Venue - High Street, Mansfield, NOTTS, NG20 0AB, UK
END:VEVENT

END:VCALENDAR
