BEGIN:VCALENDAR
VERSION:2.0
BEGIN:VEVENT
CLASS:PUBLIC
CATEGORIES:MEETING
DTSTART;TZID=Europe/London:20260906T120000
DTEND;TZID=Europe/London:20260906T120000
SUMMARY:BB BlackDog Steampunk Rock at Bridgtown Social Club
DESCRIPTION:Price: £30\nClick here to buy tickets: https://www.frndisco.uk/spacechase9.htm?fbclid=IwY2xjawPlpspleHRuA2FlbQIxMABicmlkETFDSXlRWTNIb2JuQVpLTVpac3J0YwZhcHBfaWQQMjIyMDM5MTc4ODIwMDg5MgABHmZonOoQm81S9OqEIxqPh_N8Lwz39SfDahwgQnG9z43pxeIM7hzsyQWfGXq5_aem_UILsWr8PO32w7OUFKeDmeA\nAge Limit: All Ages\n\nDetails: Part of a wonderful lineup at the Space Chase Shrine Festival 
LOCATION:Bridgtown Social Club - 170 Walsall Rd, Birmingham, B42 1, UK
END:VEVENT

END:VCALENDAR
